BEGIN:VCALENDAR
VERSION:2.0
PRODID:-//Burroughs Audubon Society - ECPv6.15.20//NONSGML v1.0//EN
CALSCALE:GREGORIAN
METHOD:PUBLISH
X-ORIGINAL-URL:https://burroughs.org
X-WR-CALDESC:Events for Burroughs Audubon Society
REFRESH-INTERVAL;VALUE=DURATION:PT1H
X-Robots-Tag:noindex
X-PUBLISHED-TTL:PT1H
BEGIN:VTIMEZONE
TZID:America/Chicago
BEGIN:DAYLIGHT
TZOFFSETFROM:-0600
TZOFFSETTO:-0500
TZNAME:CDT
DTSTART:20250309T080000
END:DAYLIGHT
BEGIN:STANDARD
TZOFFSETFROM:-0500
TZOFFSETTO:-0600
TZNAME:CST
DTSTART:20251102T070000
END:STANDARD
BEGIN:DAYLIGHT
TZOFFSETFROM:-0600
TZOFFSETTO:-0500
TZNAME:CDT
DTSTART:20260308T080000
END:DAYLIGHT
BEGIN:STANDARD
TZOFFSETFROM:-0500
TZOFFSETTO:-0600
TZNAME:CST
DTSTART:20261101T070000
END:STANDARD
BEGIN:DAYLIGHT
TZOFFSETFROM:-0600
TZOFFSETTO:-0500
TZNAME:CDT
DTSTART:20270314T080000
END:DAYLIGHT
BEGIN:STANDARD
TZOFFSETFROM:-0500
TZOFFSETTO:-0600
TZNAME:CST
DTSTART:20271107T070000
END:STANDARD
END:VTIMEZONE
BEGIN:VEVENT
DTSTART;TZID=America/Chicago:20260606T073000
DTEND;TZID=America/Chicago:20260606T110000
DTSTAMP:20260421T063207
CREATED:20260406T155954Z
LAST-MODIFIED:20260106T170321Z
UID:10000134-1780731000-1780743600@burroughs.org
SUMMARY:Field Trip: Blue River Parkway
DESCRIPTION:Join us as we conduct a summer breeding bird census along the Blue River. We’ll search for late migrant and year-round residents that use this riparian habitat. This census assists KC WildLands and their mission of preserving the natural communities around Kansas City. This census counts toward volunteer hours for Master Naturalists.\n\nYour leader for this trip is Don Arney. Meet at 7:30 a.m. at the Minor Park tennis courts parking lot. We’ll walk the hiking/biking trails along the Blue River\, approx. 2 miles. Trail conditions can be very muddy\, depending on precipitation and temperature. Watch this page for weather/cancellation updates\, and feel welcome to contact Don at 22sora@gmail.com with any questions.\n\nFeatured Image: Blue-gray Gnatcatcher by Jesse Gordon
URL:https://burroughs.org/volunteer-opportunities/field-trip-blue-river-parkway-3/
LOCATION:Blue River Parkway\, 11420 Blue River Road\, Kansas City\, MO\, 64131
CATEGORIES:Field Trips
ATTACH;FMTTYPE=image/webp:https://burroughs.org/wp-content/uploads/2026/01/h_a1_3172_4_blue-gray-gnatcatcher_jesse_gordon_kk_breeding-adult-male.webp
END:VEVENT
END:VCALENDAR