BEGIN:VCALENDAR
VERSION:2.0
PRODID:-//Burroughs Audubon Society - ECPv6.15.20//NONSGML v1.0//EN
CALSCALE:GREGORIAN
METHOD:PUBLISH
X-WR-CALNAME:Burroughs Audubon Society
X-ORIGINAL-URL:https://burroughs.org
X-WR-CALDESC:Events for Burroughs Audubon Society
REFRESH-INTERVAL;VALUE=DURATION:PT1H
X-Robots-Tag:noindex
X-PUBLISHED-TTL:PT1H
BEGIN:VTIMEZONE
TZID:America/Chicago
BEGIN:DAYLIGHT
TZOFFSETFROM:-0600
TZOFFSETTO:-0500
TZNAME:CDT
DTSTART:20240310T080000
END:DAYLIGHT
BEGIN:STANDARD
TZOFFSETFROM:-0500
TZOFFSETTO:-0600
TZNAME:CST
DTSTART:20241103T070000
END:STANDARD
BEGIN:DAYLIGHT
TZOFFSETFROM:-0600
TZOFFSETTO:-0500
TZNAME:CDT
DTSTART:20250309T080000
END:DAYLIGHT
BEGIN:STANDARD
TZOFFSETFROM:-0500
TZOFFSETTO:-0600
TZNAME:CST
DTSTART:20251102T070000
END:STANDARD
BEGIN:DAYLIGHT
TZOFFSETFROM:-0600
TZOFFSETTO:-0500
TZNAME:CDT
DTSTART:20260308T080000
END:DAYLIGHT
BEGIN:STANDARD
TZOFFSETFROM:-0500
TZOFFSETTO:-0600
TZNAME:CST
DTSTART:20261101T070000
END:STANDARD
END:VTIMEZONE
BEGIN:VEVENT
DTSTART;TZID=America/Chicago:20250412T070000
DTEND;TZID=America/Chicago:20250412T123000
DTSTAMP:20260421T044945
CREATED:20250122T152131Z
LAST-MODIFIED:20250410T141157Z
UID:10000016-1744441200-1744461000@burroughs.org
SUMMARY:Birding in Eastern Kansas Wetlands
DESCRIPTION:This trip is focused on searching for shorebirds\, waterfowl\, and whatever else is present in one of these two eastern Kansas counties wetlands. We will meet behind the bus stop in front of Price Chopper at the corner of 119th and Metcalf at 7am to carpool south. Expect a mile or more of walking on this trip as we stop at various locations.\n\nUPDATE – We will be visiting Marais des Cygnes Wildlife Area. For anyone coming from an area other than KC\, you can also meet us and Chris at the Trading Post Rest Area around 7:55. This is at the intersection of Hwy 69 and 52 in Linn County.\n\n{We plan to focus either on Browns Wetland and Antioch Marsh near Hillsdale Lake or Unit F and Unit G at Marais des Cygnes Wildlife Area. The choice of where will likely be made close to the field trip date.}\n\nThe trail to the lake at Browns Wetland and Unit F are usually not well kept and it is advised to wear pants and footwear sprayed with Permethrin or DEET to keep chiggers at bay. Bring scope and binoculars\, water\, and appropriate clothing. Individuals of all skills and experience levels are welcome to attend\, if you need some help with shorebird identification bring your field guide as we’ll help point out the differences in what we see to arrive at the identifications. This trip will likely take the entire morning and we plan to be back to vehicles shortly after noon.\n\nYour leaders for this trip are Malcolm Gold and Chris Krafft. You’ll meet Malcolm for carpooling\, and we’ll meet Chris on location. For more information\, contact Chris at chriskrafft2@gmail.com
URL:https://burroughs.org/volunteer-opportunities/birding-in-eastern-kansas-wetlands/
LOCATION:MO
END:VEVENT
END:VCALENDAR