BEGIN:VCALENDAR
VERSION:2.0
PRODID:-//Burroughs Audubon Society - ECPv6.15.20//NONSGML v1.0//EN
CALSCALE:GREGORIAN
METHOD:PUBLISH
X-WR-CALNAME:Burroughs Audubon Society
X-ORIGINAL-URL:https://burroughs.org
X-WR-CALDESC:Events for Burroughs Audubon Society
REFRESH-INTERVAL;VALUE=DURATION:PT1H
X-Robots-Tag:noindex
X-PUBLISHED-TTL:PT1H
BEGIN:VTIMEZONE
TZID:America/Chicago
BEGIN:DAYLIGHT
TZOFFSETFROM:-0600
TZOFFSETTO:-0500
TZNAME:CDT
DTSTART:20240310T080000
END:DAYLIGHT
BEGIN:STANDARD
TZOFFSETFROM:-0500
TZOFFSETTO:-0600
TZNAME:CST
DTSTART:20241103T070000
END:STANDARD
BEGIN:DAYLIGHT
TZOFFSETFROM:-0600
TZOFFSETTO:-0500
TZNAME:CDT
DTSTART:20250309T080000
END:DAYLIGHT
BEGIN:STANDARD
TZOFFSETFROM:-0500
TZOFFSETTO:-0600
TZNAME:CST
DTSTART:20251102T070000
END:STANDARD
BEGIN:DAYLIGHT
TZOFFSETFROM:-0600
TZOFFSETTO:-0500
TZNAME:CDT
DTSTART:20260308T080000
END:DAYLIGHT
BEGIN:STANDARD
TZOFFSETFROM:-0500
TZOFFSETTO:-0600
TZNAME:CST
DTSTART:20261101T070000
END:STANDARD
END:VTIMEZONE
BEGIN:VEVENT
DTSTART;TZID=America/Chicago:20250223T120000
DTEND;TZID=America/Chicago:20250223T140000
DTSTAMP:20260421T032859
CREATED:20250120T205246Z
LAST-MODIFIED:20250120T205724Z
UID:10000008-1740312000-1740319200@burroughs.org
SUMMARY:Raptor Roll at Loess Bluffs Wildlife Refuge
DESCRIPTION:Sally Urdang\, a Master Naturalist with the Osage Trails chapter\, is our host for this birding field trip\, which includes the option of riding your bike ride around the refuge. We will meet at the Visitor Center at noon. \nDrive your car through the refuge or bring a bike if you’d like to ride around the 10 miles of gravel roads. If you are choosing to ride a bike\, your bike must be in good\, working order\, as this is a self-supported bike ride. We also suggest you ride a bike that has mountain bike-sized tires on it\, or is a gravel bike. We’ll be looking for Bald Eagles\, raptors\, Snow Geese\, Trumpeter Swans\, sparrows\, and more. \nPlease bring your own lunch/snacks and your own binoculars\, or Sally will have a few on hand as extras. Experienced and novice birders are welcome! Wear warm clothes. This event is dependent on weather. Please check the Burroughs Facebook page as well as this page for weather updates. \nContact Sally (816/565-1839 or urdang.sal@gmail.com) if you need more information.
URL:https://burroughs.org/volunteer-opportunities/raptor-roll-at-loess-bluffs-wildlife-refuge/
LOCATION:loess bluffs wildlife refuge\, 159 State Hwy E\, Mound City\, MO\, 64470
END:VEVENT
END:VCALENDAR